BEGIN:VCALENDAR
VERSION:2.0
PRODID:-//LAX Ammo - ECPv6.15.20//NONSGML v1.0//EN
CALSCALE:GREGORIAN
METHOD:PUBLISH
X-WR-CALNAME:LAX Ammo
X-ORIGINAL-URL:https://laxammoretail.com
X-WR-CALDESC:Events for LAX Ammo
REFRESH-INTERVAL;VALUE=DURATION:PT1H
X-Robots-Tag:noindex
X-PUBLISHED-TTL:PT1H
BEGIN:VTIMEZONE
TZID:America/Los_Angeles
BEGIN:DAYLIGHT
TZOFFSETFROM:-0800
TZOFFSETTO:-0700
TZNAME:PDT
DTSTART:20230312T100000
END:DAYLIGHT
BEGIN:STANDARD
TZOFFSETFROM:-0700
TZOFFSETTO:-0800
TZNAME:PST
DTSTART:20231105T090000
END:STANDARD
BEGIN:DAYLIGHT
TZOFFSETFROM:-0800
TZOFFSETTO:-0700
TZNAME:PDT
DTSTART:20240310T100000
END:DAYLIGHT
BEGIN:STANDARD
TZOFFSETFROM:-0700
TZOFFSETTO:-0800
TZNAME:PST
DTSTART:20241103T090000
END:STANDARD
BEGIN:DAYLIGHT
TZOFFSETFROM:-0800
TZOFFSETTO:-0700
TZNAME:PDT
DTSTART:20250309T100000
END:DAYLIGHT
BEGIN:STANDARD
TZOFFSETFROM:-0700
TZOFFSETTO:-0800
TZNAME:PST
DTSTART:20251102T090000
END:STANDARD
BEGIN:DAYLIGHT
TZOFFSETFROM:-0800
TZOFFSETTO:-0700
TZNAME:PDT
DTSTART:20260308T100000
END:DAYLIGHT
BEGIN:STANDARD
TZOFFSETFROM:-0700
TZOFFSETTO:-0800
TZNAME:PST
DTSTART:20261101T090000
END:STANDARD
BEGIN:DAYLIGHT
TZOFFSETFROM:-0800
TZOFFSETTO:-0700
TZNAME:PDT
DTSTART:20270314T100000
END:DAYLIGHT
BEGIN:STANDARD
TZOFFSETFROM:-0700
TZOFFSETTO:-0800
TZNAME:PST
DTSTART:20271107T090000
END:STANDARD
END:VTIMEZONE
BEGIN:VTIMEZONE
TZID:UTC
BEGIN:STANDARD
TZOFFSETFROM:+0000
TZOFFSETTO:+0000
TZNAME:UTC
DTSTART:20230101T000000
END:STANDARD
END:VTIMEZONE
BEGIN:VEVENT
DTSTART;TZID=America/Los_Angeles:20260214T090000
DTEND;TZID=America/Los_Angeles:20260215T160000
DTSTAMP:20260420T034111
CREATED:20260209T204604Z
LAST-MODIFIED:20260209T204604Z
UID:7804-1771059600-1771171200@laxammoretail.com
SUMMARY:Gun Show Bakersfield\, CA
DESCRIPTION:February 14-15: Sat 9am-5pm / Sun 9am-3pm \nKern County Fairgrounds\n1142 S P St.\, Bakersfield\, CA 93307  \nFor more information about individual gun shows please call (424) 750-9652 or email us at service@laxammunition.com.  We bring a variety of calibers and ammunition types at every gun show.
URL:https://laxammoretail.com/event/gun-show-bakersfield-ca-5/
LOCATION:Kern County Fairgrounds\, 1142 S P St\, Bakersfield\, CA\, 93307\, United States
CATEGORIES:Gun Shows
ATTACH;FMTTYPE=image/jpeg:https://laxammoretail.com/wp-content/uploads/2026/02/2-14-26-LAX-Bakersfield-Gun-Show-email-HERO-copy.jpg
ORGANIZER;CN="Crossroads of the West":MAILTO:gunshows@crossroadsgunshows.com
END:VEVENT
BEGIN:VEVENT
DTSTART;TZID=America/Los_Angeles:20251108T090000
DTEND;TZID=America/Los_Angeles:20251109T160000
DTSTAMP:20260420T034111
CREATED:20251013T175813Z
LAST-MODIFIED:20251013T175813Z
UID:7744-1762592400-1762704000@laxammoretail.com
SUMMARY:Gun Show San Bernardino\, CA
DESCRIPTION:November 8-9: Sat 9am-5pm / Sun 9am-3pm \nCrossroads of the West \nNational Orange Show Grounds\n689 S E St San Bernardino\, CA 92408 \nFor more information about individual gun shows please call (424) 750-9652 or email us at service@laxammunition.com.  We bring a variety of calibers and ammunition types at every gun show.
URL:https://laxammoretail.com/event/gun-show-san-bernardino-ca-4/
LOCATION:National Orange Show Grounds\, 689 S E St\, San Bernardino\, CA\, 92408\, United States
CATEGORIES:Gun Shows
ATTACH;FMTTYPE=image/jpeg:https://laxammoretail.com/wp-content/uploads/2025/10/11-8-25-LAX-San-Bernardino-email-HERO.jpg
ORGANIZER;CN="Crossroads of the West":MAILTO:gunshows@crossroadsgunshows.com
END:VEVENT
BEGIN:VEVENT
DTSTART;TZID=America/Los_Angeles:20251025T090000
DTEND;TZID=America/Los_Angeles:20251026T160000
DTSTAMP:20260420T034111
CREATED:20251013T175402Z
LAST-MODIFIED:20251013T175402Z
UID:7741-1761382800-1761494400@laxammoretail.com
SUMMARY:Gun Show Bakersfield\, CA
DESCRIPTION:October 25-26: Sat 9am-5pm / Sun 9am-3pm \nKern County Fairgrounds\n1142 S P St.\, Bakersfield\, CA 93307  \nFor more information about individual gun shows please call (424) 750-9652 or email us at service@laxammunition.com.  We bring a variety of calibers and ammunition types at every gun show.
URL:https://laxammoretail.com/event/gun-show-bakersfield-ca-4/
LOCATION:Kern County Fairgrounds\, 1142 S P St\, Bakersfield\, CA\, 93307\, United States
CATEGORIES:Gun Shows
ATTACH;FMTTYPE=image/jpeg:https://laxammoretail.com/wp-content/uploads/2025/10/10-25-25-LAX-Bakersfield-Gun-Show-email-HERO.jpg
ORGANIZER;CN="Crossroads of the West":MAILTO:gunshows@crossroadsgunshows.com
END:VEVENT
BEGIN:VEVENT
DTSTART;TZID=America/Los_Angeles:20251018T090000
DTEND;TZID=America/Los_Angeles:20251019T160000
DTSTAMP:20260420T034111
CREATED:20251013T164733Z
LAST-MODIFIED:20251013T164733Z
UID:7738-1760778000-1760889600@laxammoretail.com
SUMMARY:Gun Show Ontario\, CA
DESCRIPTION:October 18-19 Sat 9am-5pm / Sun 9am-3pm \nCrossroads of the West \nOntario Convention Center\n2000 E Convention Center Way\, Ontario\, CA 91764 \nFor more information about individual gun shows please call (424) 750-9652 or email us at service@laxammunition.com.  We bring a variety of calibers and ammunition types at every gun show.
URL:https://laxammoretail.com/event/gun-show-ontario-ca-5/
LOCATION:Ontario Convention Center\, 2000 E Convention Center Way\, Ontario\, CA\, 91764\, United States
CATEGORIES:Gun Shows
ATTACH;FMTTYPE=image/jpeg:https://laxammoretail.com/wp-content/uploads/2025/10/10-18-25-LAX-Ontario-Gun-Show-email-HERO.jpg
ORGANIZER;CN="Crossroads of the West":MAILTO:gunshows@crossroadsgunshows.com
END:VEVENT
BEGIN:VEVENT
DTSTART;TZID=UTC:20251004T070000
DTEND;TZID=UTC:20251004T100000
DTSTAMP:20260420T034111
CREATED:20250702T142621Z
LAST-MODIFIED:20250710T172329Z
UID:7696-1759561200-1759572000@laxammoretail.com
SUMMARY:LAX Range GLOCK GSSF Match
DESCRIPTION:LAX RANGE GSSF MATCH\nSaturday October 4th\n7am – 10am\n$30 Entry Fee\nScan QR code on flyer or click here to register.
URL:https://laxammoretail.com/event/lax-range-glock-gssf-match-6/
LOCATION:LAX Firing Range\, 234 S\, 234 Hindry Ave.\, Inglewood\, CA\, 90301\, United States
CATEGORIES:Gun Range Classes
ATTACH;FMTTYPE=image/png:https://laxammoretail.com/wp-content/uploads/2025/02/LAX_RANGE_PRESENTS_THE_GSSF_MATCH_SERIES_2.png
END:VEVENT
BEGIN:VEVENT
DTSTART;TZID=UTC:20250906T070000
DTEND;TZID=UTC:20250906T100000
DTSTAMP:20260420T034111
CREATED:20250702T142257Z
LAST-MODIFIED:20250710T172305Z
UID:7695-1757142000-1757152800@laxammoretail.com
SUMMARY:LAX Range GLOCK GSSF Match
DESCRIPTION:LAX RANGE GSSF MATCH\nSaturday September 6th\n7am – 10am\n$30 Entry Fee\nScan QR code on flyer or click here to register.
URL:https://laxammoretail.com/event/lax-range-glock-gssf-match-5/
LOCATION:LAX Firing Range\, 234 S\, 234 Hindry Ave.\, Inglewood\, CA\, 90301\, United States
CATEGORIES:Gun Range Classes
ATTACH;FMTTYPE=image/png:https://laxammoretail.com/wp-content/uploads/2025/02/LAX_RANGE_PRESENTS_THE_GSSF_MATCH_SERIES_2.png
END:VEVENT
BEGIN:VEVENT
DTSTART;TZID=UTC:20250809T070000
DTEND;TZID=UTC:20250809T100000
DTSTAMP:20260420T034111
CREATED:20250702T142139Z
LAST-MODIFIED:20250710T172236Z
UID:7694-1754722800-1754733600@laxammoretail.com
SUMMARY:LAX Range GLOCK GSSF Match
DESCRIPTION:LAX RANGE GSSF MATCH\nSaturday August 9th\n7am – 10am\n$30 Entry Fee\nScan QR code on flyer or click here to register.
URL:https://laxammoretail.com/event/lax-range-glock-gssf-match-4/
LOCATION:LAX Firing Range\, 234 S\, 234 Hindry Ave.\, Inglewood\, CA\, 90301\, United States
CATEGORIES:Gun Range Classes
ATTACH;FMTTYPE=image/png:https://laxammoretail.com/wp-content/uploads/2025/02/LAX_RANGE_PRESENTS_THE_GSSF_MATCH_SERIES_2.png
END:VEVENT
BEGIN:VEVENT
DTSTART;TZID=UTC:20250419T070000
DTEND;TZID=UTC:20250419T100000
DTSTAMP:20260420T034111
CREATED:20250206T230157Z
LAST-MODIFIED:20250206T230219Z
UID:7639-1745046000-1745056800@laxammoretail.com
SUMMARY:LAX Range GLOCK GSSF Match
DESCRIPTION:LAX RANGE GSSF MATCH\nSaturday April 19th\n7am – 10am\n$30 Entry Fee\nScan QR code on flyer or click here to register.
URL:https://laxammoretail.com/event/lax-range-glock-gssf-match-3/
LOCATION:LAX Firing Range\, 234 S\, 234 Hindry Ave.\, Inglewood\, CA\, 90301\, United States
CATEGORIES:Gun Range Classes
ATTACH;FMTTYPE=image/png:https://laxammoretail.com/wp-content/uploads/2025/02/LAX_RANGE_PRESENTS_THE_GSSF_MATCH_SERIES_2.png
END:VEVENT
BEGIN:VEVENT
DTSTART;TZID=America/Los_Angeles:20250315T090000
DTEND;TZID=America/Los_Angeles:20250316T160000
DTSTAMP:20260420T034111
CREATED:20250109T175812Z
LAST-MODIFIED:20250109T175812Z
UID:7615-1742029200-1742140800@laxammoretail.com
SUMMARY:Gun Show Ontario\, CA
DESCRIPTION:March 15-16 Sat 9am-5pm / Sun 9am-3pm \nCrossroads of the West \nOntario Convention Center\n2000 E Convention Center Way\, Ontario\, CA 91764 \nFor more information about individual gun shows please call (424) 750-9652 or email us at service@laxammunition.com.  We bring a variety of calibers and ammunition types at every gun show.
URL:https://laxammoretail.com/event/gun-show-ontario-ca-4/
LOCATION:Ontario Convention Center\, 2000 E Convention Center Way\, Ontario\, CA\, 91764\, United States
CATEGORIES:Gun Shows
ATTACH;FMTTYPE=image/jpeg:https://laxammoretail.com/wp-content/uploads/2018/05/0ab7b556-8117-49fc-bd82-785b9723ae93.jpg
ORGANIZER;CN="Crossroads of the West":MAILTO:gunshows@crossroadsgunshows.com
END:VEVENT
BEGIN:VEVENT
DTSTART;TZID=UTC:20250315T070000
DTEND;TZID=UTC:20250315T100000
DTSTAMP:20260420T034111
CREATED:20250206T230125Z
LAST-MODIFIED:20250206T230125Z
UID:7637-1742022000-1742032800@laxammoretail.com
SUMMARY:LAX Range GLOCK GSSF Match
DESCRIPTION:LAX RANGE GSSF MATCH\nSaturday March 15th\n7am – 10am\n$30 Entry Fee\nScan QR code on flyer or click here to register.
URL:https://laxammoretail.com/event/lax-range-glock-gssf-match-2/
LOCATION:LAX Firing Range\, 234 S\, 234 Hindry Ave.\, Inglewood\, CA\, 90301\, United States
CATEGORIES:Gun Range Classes
ATTACH;FMTTYPE=image/png:https://laxammoretail.com/wp-content/uploads/2025/02/LAX_RANGE_PRESENTS_THE_GSSF_MATCH_SERIES_2.png
END:VEVENT
BEGIN:VEVENT
DTSTART;TZID=America/Los_Angeles:20250215T090000
DTEND;TZID=America/Los_Angeles:20250216T160000
DTSTAMP:20260420T034111
CREATED:20250109T175541Z
LAST-MODIFIED:20250109T175541Z
UID:7610-1739610000-1739721600@laxammoretail.com
SUMMARY:Gun Show Bakersfield\, CA
DESCRIPTION:February 15-16: Sat 9am-5pm / Sun 9am-3pm \nKern County Fairgrounds\n1142 S P St.\, Bakersfield\, CA 93307  \nFor more information about individual gun shows please call (424) 750-9652 or email us at service@laxammunition.com.  We bring a variety of calibers and ammunition types at every gun show.
URL:https://laxammoretail.com/event/gun-show-bakersfield-ca/
LOCATION:Kern County Fairgrounds\, 1142 S P St\, Bakersfield\, CA\, 93307\, United States
CATEGORIES:Gun Shows
ATTACH;FMTTYPE=image/jpeg:https://laxammoretail.com/wp-content/uploads/2018/05/0ab7b556-8117-49fc-bd82-785b9723ae93.jpg
ORGANIZER;CN="Crossroads of the West":MAILTO:gunshows@crossroadsgunshows.com
END:VEVENT
BEGIN:VEVENT
DTSTART;TZID=UTC:20250215T070000
DTEND;TZID=UTC:20250215T100000
DTSTAMP:20260420T034111
CREATED:20250206T225652Z
LAST-MODIFIED:20250206T225652Z
UID:7635-1739602800-1739613600@laxammoretail.com
SUMMARY:LAX Range GLOCK GSSF Match
DESCRIPTION:LAX RANGE GSSF MATCH\nSaturday February 15th\n7am – 10am\n$30 Entry Fee\nScan QR code on flyer or click here to register.
URL:https://laxammoretail.com/event/lax-range-glock-gssf-match/
LOCATION:LAX Firing Range\, 234 S\, 234 Hindry Ave.\, Inglewood\, CA\, 90301\, United States
CATEGORIES:Gun Range Classes
ATTACH;FMTTYPE=image/png:https://laxammoretail.com/wp-content/uploads/2025/02/LAX_RANGE_PRESENTS_THE_GSSF_MATCH_SERIES_2.png
END:VEVENT
BEGIN:VEVENT
DTSTART;TZID=America/Los_Angeles:20250111T090000
DTEND;TZID=America/Los_Angeles:20250112T160000
DTSTAMP:20260420T034111
CREATED:20241223T192326Z
LAST-MODIFIED:20241223T192326Z
UID:7596-1736586000-1736697600@laxammoretail.com
SUMMARY:Gun Show San Bernardino\, CA
DESCRIPTION:January 11-12: Sat 9am-5pm / Sun 9am-3pm \nCrossroads of the West \nNational Orange Show Grounds\n689 S E St San Bernardino\, CA 92408 \nFor more information about individual gun shows please call (424) 750-9652 or email us at service@laxammunition.com.  We bring a variety of calibers and ammunition types at every gun show.
URL:https://laxammoretail.com/event/gun-show-san-bernardino-ca-3/
LOCATION:National Orange Show Grounds\, 689 S E St\, San Bernardino\, CA\, 92408\, United States
CATEGORIES:Gun Shows
ATTACH;FMTTYPE=image/jpeg:https://laxammoretail.com/wp-content/uploads/2018/05/0ab7b556-8117-49fc-bd82-785b9723ae93.jpg
ORGANIZER;CN="Crossroads of the West":MAILTO:gunshows@crossroadsgunshows.com
END:VEVENT
BEGIN:VEVENT
DTSTART;TZID=America/Los_Angeles:20250104T090000
DTEND;TZID=America/Los_Angeles:20250105T160000
DTSTAMP:20260420T034111
CREATED:20241223T192049Z
LAST-MODIFIED:20241223T192049Z
UID:7594-1735981200-1736092800@laxammoretail.com
SUMMARY:Gun Show Ontario\, CA
DESCRIPTION:January 4th-5th Sat 9am-5pm / Sun 9am-3pm \nCrossroads of the West \nOntario Convention Center\n2000 E Convention Center Way\, Ontario\, CA 91764 \nFor more information about individual gun shows please call (424) 750-9652 or email us at service@laxammunition.com.  We bring a variety of calibers and ammunition types at every gun show.
URL:https://laxammoretail.com/event/gun-show-ontario-ca-3/
LOCATION:Ontario Convention Center\, 2000 E Convention Center Way\, Ontario\, CA\, 91764\, United States
CATEGORIES:Gun Shows
ATTACH;FMTTYPE=image/jpeg:https://laxammoretail.com/wp-content/uploads/2018/05/0ab7b556-8117-49fc-bd82-785b9723ae93.jpg
ORGANIZER;CN="Crossroads of the West":MAILTO:gunshows@crossroadsgunshows.com
END:VEVENT
BEGIN:VEVENT
DTSTART;TZID=America/Los_Angeles:20241130T090000
DTEND;TZID=America/Los_Angeles:20241201T150000
DTSTAMP:20260420T034111
CREATED:20240222T005028Z
LAST-MODIFIED:20240222T005415Z
UID:7253-1732957200-1733065200@laxammoretail.com
SUMMARY:Gun Show Costa Mesa\, CA
DESCRIPTION:November 30: Sat 9am-5pm / Sun 9am-3pm \nOC Fair & Event Center\n88 Fair Dr\, Costa Mesa\, CA 92626 \nFor more information about individual gun shows please call (424) 750-9652 or email us at service@laxammunition.com.  We bring a variety of calibers and ammunition types at every gun show.
URL:https://laxammoretail.com/event/gun-show-costa-mesa-ca/
LOCATION:OC Fair & Event Center\, 88 Fair Dr\, Costa Mesa\, CA\, 92626\, United States
CATEGORIES:Gun Shows
ATTACH;FMTTYPE=image/jpeg:https://laxammoretail.com/wp-content/uploads/2018/05/0ab7b556-8117-49fc-bd82-785b9723ae93.jpg
ORGANIZER;CN="Crossroads of the West":MAILTO:gunshows@crossroadsgunshows.com
END:VEVENT
BEGIN:VEVENT
DTSTART;TZID=America/Los_Angeles:20241109T090000
DTEND;TZID=America/Los_Angeles:20241110T160000
DTSTAMP:20260420T034111
CREATED:20240222T005723Z
LAST-MODIFIED:20240222T011032Z
UID:7260-1731142800-1731254400@laxammoretail.com
SUMMARY:Gun Show San Bernardino\, CA
DESCRIPTION:November 9-10: Sat 9am-5pm / Sun 9am-4pm \nNational Orange Show Grounds\n689 S E St San Bernardino\, CA 92408 \nFor more information about individual gun shows please call (424) 750-9652 or email us at service@laxammunition.com.  We bring a variety of calibers and ammunition types at every gun show.
URL:https://laxammoretail.com/event/gun-show-san-bernardino-ca-2/
LOCATION:National Orange Show Grounds\, 689 S E St\, San Bernardino\, CA\, 92408\, United States
CATEGORIES:Gun Shows
ATTACH;FMTTYPE=image/jpeg:https://laxammoretail.com/wp-content/uploads/2018/05/0ab7b556-8117-49fc-bd82-785b9723ae93.jpg
ORGANIZER;CN="Crossroads of the West":MAILTO:gunshows@crossroadsgunshows.com
END:VEVENT
BEGIN:VEVENT
DTSTART;TZID=UTC:20240921T090000
DTEND;TZID=UTC:20240922T160000
DTSTAMP:20260420T034111
CREATED:20240409T163903Z
LAST-MODIFIED:20240913T183822Z
UID:7330-1726909200-1727020800@laxammoretail.com
SUMMARY:Victorville Gun Show
DESCRIPTION:September 2024\n21st – Saturday 9am-4pm\n22nd – Sunday 9am-3pm
URL:https://laxammoretail.com/event/victorville-gun-show/
LOCATION:San Bernardino Fairgrounds\, 14800 SEVENTH ST.\, VICTORVILLE\, 92395\, United States
CATEGORIES:Gun Shows
ATTACH;FMTTYPE=image/jpeg:https://laxammoretail.com/wp-content/uploads/2024/04/9.21.24-LAX-Victorville-Gun-Show-email-HERO.jpg
END:VEVENT
BEGIN:VEVENT
DTSTART;TZID=UTC:20240921T080000
DTEND;TZID=UTC:20241004T220512
DTSTAMP:20260420T034111
CREATED:20240923T155721Z
LAST-MODIFIED:20241004T220512Z
UID:7505-1726905600-1728079512@laxammoretail.com
SUMMARY:End of Summer BLOWOUT Sale
DESCRIPTION:Warehouse overstock — Hundreds of items on sale while supplies last! \nDrop in to our locations in San Diego\, San Marcos\, and Los Angeles for hot deals from multiple manufacturers including Hornady\, Remington\, Freedom Munitions and LAX-branded products.
URL:https://laxammoretail.com/event/end-of-summer-blowout-sale/
LOCATION:CA
END:VEVENT
BEGIN:VEVENT
DTSTART;TZID=America/Los_Angeles:20240830T090000
DTEND;TZID=America/Los_Angeles:20240901T170000
DTSTAMP:20260420T034111
CREATED:20240830T155257Z
LAST-MODIFIED:20240830T155257Z
UID:7467-1725008400-1725210000@laxammoretail.com
SUMMARY:Labor Day Sale
DESCRIPTION:August 30 – September 1 at all LAX locations. \nSave on select 9MM\, 300 Blackout\, 223 and more! Special pricing on LAX merchandise\, cases\, and literally everything else! \n \n  \n  \n  \n  \n  \n  \n  \n  \n  \n\n\nLA Location: \nFriday: 9 AM–8 PM\nSaturday: 10:30 AM–8 PM\nSunday: 10:30 AM–5 PM\nMonday: 9AM-5PM\n\n  \n\nOC Location:\nFriday: 11AM TO 6PM\nSaturday: 10AM TO 5PM\nSunday: 11AM TO 4PM\nMonday: 11AM TO 6PM\n\n  \n\nSan Marcos:\nFriday: 10AM TO 6PM\nSaturday: 10AM TO 5PM\nSunday: 10AM TO 5PM\nMonday: 10AM-6PM\n\n  \n\nSan Diego:\nFriday: 10AM TO 6PM\nSaturday: 10AM TO 5PM\nSunday: 10AM TO 5PM\nMonday: 10AM-6PM
URL:https://laxammoretail.com/event/labor-day-sale-2024/
LOCATION:CA
CATEGORIES:Sales
END:VEVENT
BEGIN:VEVENT
DTSTART;TZID=UTC:20240824T070000
DTEND;TZID=UTC:20240824T110000
DTSTAMP:20260420T034111
CREATED:20240613T194518Z
LAST-MODIFIED:20240613T194518Z
UID:7405-1724482800-1724497200@laxammoretail.com
SUMMARY:The Summer of GLOCK GSSF Match
DESCRIPTION:August 24th at LAX Firing Range.
URL:https://laxammoretail.com/event/the-summer-of-glock-gssf-match-3/
LOCATION:LAX Firing Range\, 234 S\, 234 Hindry Ave.\, Inglewood\, CA\, 90301\, United States
CATEGORIES:Gun Range Classes
ATTACH;FMTTYPE=image/png:https://laxammoretail.com/wp-content/uploads/2024/06/6-7-24-LAX-GSSF-MATCH-FLYER-8.5x11-RGB-Color.png
END:VEVENT
BEGIN:VEVENT
DTSTART;TZID=America/Los_Angeles:20240810T090000
DTEND;TZID=America/Los_Angeles:20240811T160000
DTSTAMP:20260420T034111
CREATED:20240222T014425Z
LAST-MODIFIED:20240409T153806Z
UID:7266-1723280400-1723392000@laxammoretail.com
SUMMARY:Gun Show Bakersfield\, CA
DESCRIPTION:August 10-11: Sat 9am-5pm / Sun 9am-3pm \nKern County Fairgrounds\n1142 S P St.\, Bakersfield\, CA 93307  \nFor more information about individual gun shows please call (424) 750-9652 or email us at service@laxammunition.com.  We bring a variety of calibers and ammunition types at every gun show.
URL:https://laxammoretail.com/event/gun-show-bakersfield-ca-3/
LOCATION:Kern County Fairgrounds\, 1142 S P St\, Bakersfield\, CA\, 93307\, United States
CATEGORIES:Gun Shows
ATTACH;FMTTYPE=image/jpeg:https://laxammoretail.com/wp-content/uploads/2018/05/0ab7b556-8117-49fc-bd82-785b9723ae93.jpg
ORGANIZER;CN="Crossroads of the West":MAILTO:gunshows@crossroadsgunshows.com
END:VEVENT
BEGIN:VEVENT
DTSTART;TZID=UTC:20240803T090000
DTEND;TZID=UTC:20240804T150000
DTSTAMP:20260420T034111
CREATED:20240729T150859Z
LAST-MODIFIED:20240729T152521Z
UID:7425-1722675600-1722783600@laxammoretail.com
SUMMARY:Ontario Gun Show\, CA
DESCRIPTION:August 3rd – August 4th 2024 \nLocation: Ontario Convention Center\nAddress: 2000 E. Convention Center Way\, Ontario\, CA 91764 \nSat 9am – 6pm \nSun 9am – 3pm \nChildren 12 and under do not require a ticket. Everyone under age 18 must be with a parent or guardian while at the show. \nFor more information about individual gun shows please call (424) 750-9652 or email us at service@laxammunition.com. We bring a variety of calibers and ammunition types at every gun show.
URL:https://laxammoretail.com/event/ontario-gun-show/
LOCATION:Ontario Convention Center\, 2000 E Convention Center Way\, Ontario\, CA\, 91764\, United States
CATEGORIES:Gun Shows
ATTACH;FMTTYPE=image/jpeg:https://laxammoretail.com/wp-content/uploads/2024/07/8.3.24-LAX-Ontario-Gun-Show-email-HERO.jpg
END:VEVENT
BEGIN:VEVENT
DTSTART;TZID=UTC:20240727T070000
DTEND;TZID=UTC:20240727T110000
DTSTAMP:20260420T034111
CREATED:20240613T194425Z
LAST-MODIFIED:20240613T194425Z
UID:7403-1722063600-1722078000@laxammoretail.com
SUMMARY:The Summer of GLOCK GSSF Match
DESCRIPTION:July 27th at LAX Firing Range.
URL:https://laxammoretail.com/event/the-summer-of-glock-gssf-match-2/
LOCATION:LAX Firing Range\, 234 S\, 234 Hindry Ave.\, Inglewood\, CA\, 90301\, United States
CATEGORIES:Gun Range Classes
ATTACH;FMTTYPE=image/png:https://laxammoretail.com/wp-content/uploads/2024/06/6-7-24-LAX-GSSF-MATCH-FLYER-8.5x11-RGB-Color.png
END:VEVENT
BEGIN:VEVENT
DTSTART;TZID=America/Los_Angeles:20240713T090000
DTEND;TZID=America/Los_Angeles:20240714T150000
DTSTAMP:20260420T034111
CREATED:20180608T074412Z
LAST-MODIFIED:20240221T221426Z
UID:230-1720861200-1720969200@laxammoretail.com
SUMMARY:Gun Show Vallejo\, CA
DESCRIPTION:July 13-14: Sat 9am-5pm / Sun 9am-3pm \nSolano County Fairgrounds\n900 Fairgrounds Dr. Vallejo\, CA 94589  \nFor more information about individual gun shows please call (424) 750-9652 or email us at service@laxammunition.com.  We bring a variety of calibers and ammunition types at every gun show.
URL:https://laxammoretail.com/event/gun-show-vallejo-ca/
LOCATION:Solano County Fairgrounds\, 900 Fairgrounds Dr.\, Vallejo\, CA\, 94589\, United States
CATEGORIES:Gun Shows
ATTACH;FMTTYPE=image/jpeg:https://laxammoretail.com/wp-content/uploads/2018/05/0ab7b556-8117-49fc-bd82-785b9723ae93.jpg
ORGANIZER;CN="Crossroads of the West":MAILTO:gunshows@crossroadsgunshows.com
END:VEVENT
BEGIN:VEVENT
DTSTART;TZID=UTC:20240629T070000
DTEND;TZID=UTC:20240629T110000
DTSTAMP:20260420T034111
CREATED:20240613T193751Z
LAST-MODIFIED:20240613T193751Z
UID:7400-1719644400-1719658800@laxammoretail.com
SUMMARY:The Summer of GLOCK GSSF Match
DESCRIPTION:June 29th at LAX Firing Range.
URL:https://laxammoretail.com/event/the-summer-of-glock-gssf-match/
LOCATION:LAX Firing Range\, 234 S\, 234 Hindry Ave.\, Inglewood\, CA\, 90301\, United States
CATEGORIES:Gun Range Classes
ATTACH;FMTTYPE=image/png:https://laxammoretail.com/wp-content/uploads/2024/06/6-7-24-LAX-GSSF-MATCH-FLYER-8.5x11-RGB-Color.png
END:VEVENT
BEGIN:VEVENT
DTSTART;TZID=UTC:20240621T080000
DTEND;TZID=UTC:20240630T170000
DTSTAMP:20260420T034111
CREATED:20240619T214832Z
LAST-MODIFIED:20240619T214832Z
UID:7415-1718956800-1719766800@laxammoretail.com
SUMMARY:LAX'S CALIFORNIA PRE-TAX SALE
DESCRIPTION:Hurry in and SAVE before the 11% ammo tax takes effect! \nSALES IN-STORE ONLY \nLAX LA JUNE 21ST – 26TH\nLAX SAN DIEGO & SAN MARCOS JUNE 21ST-30TH
URL:https://laxammoretail.com/event/laxs-california-pre-tax-sale/
LOCATION:CA
CATEGORIES:Sales
ATTACH;FMTTYPE=image/jpeg:https://laxammoretail.com/wp-content/uploads/2024/06/6.24.24-LAX-RETAIL-Pre-Tax-Store-Sale-email-HERO.jpg
END:VEVENT
BEGIN:VEVENT
DTSTART;TZID=America/Los_Angeles:20240614T090000
DTEND;TZID=America/Los_Angeles:20240616T170000
DTSTAMP:20260420T034111
CREATED:20240613T195119Z
LAST-MODIFIED:20240613T195119Z
UID:7408-1718355600-1718557200@laxammoretail.com
SUMMARY:Father's Day Sale
DESCRIPTION:June 14-16 at all LAX locations.\n\nSee what’s on sale » \nLA Location:\nFriday: 9 AM–8 PM\nSaturday: 10:30 AM–8 PM\nSunday: 10:30 AM–5 PM\nMonday: 9AM-5PM\n\n  \n\nOC Location:\nFriday: 11AM TO 6PM\nSaturday: 10AM TO 5PM\nSunday: 11AM TO 4PM\nMonday: 11AM TO 6PM\n\n  \n\nSan Marcos:\nFriday: 10AM TO 6PM\nSaturday: 10AM TO 5PM\nSunday: 10AM TO 5PM\nMonday: 10AM-6PM\n\n  \n\nSan Diego:\nFriday: 10AM TO 6PM\nSaturday: 10AM TO 5PM\nSunday: 10AM TO 5PM\nMonday: 10AM-6PM
URL:https://laxammoretail.com/event/fathers-day-sale/
LOCATION:CA
CATEGORIES:Sales
END:VEVENT
BEGIN:VEVENT
DTSTART;TZID=America/Los_Angeles:20240524T090000
DTEND;TZID=America/Los_Angeles:20240527T170000
DTSTAMP:20260420T034111
CREATED:20240524T122829Z
LAST-MODIFIED:20240524T123827Z
UID:7376-1716541200-1716829200@laxammoretail.com
SUMMARY:Memorial Day Sale
DESCRIPTION:May 24-27 at all LAX locations.\n\nSee what’s on sale » \nLA Location:\nFriday: 9 AM–8 PM\nSaturday: 10:30 AM–8 PM\nSunday: 10:30 AM–5 PM\nMonday: 9AM-5PM\n\n  \n\nOC Location:\nFriday: 11AM TO 6PM\nSaturday: 10AM TO 5PM\nSunday: 11AM TO 4PM\nMonday: 11AM TO 6PM\n\n  \n\nSan Marcos:\nFriday: 10AM TO 6PM\nSaturday: 10AM TO 5PM\nSunday: 10AM TO 5PM\nMonday: 10AM-6PM\n\n  \n\nSan Diego:\nFriday: 10AM TO 6PM\nSaturday: 10AM TO 5PM\nSunday: 10AM TO 5PM\nMonday: 10AM-6PM
URL:https://laxammoretail.com/event/memorial-day-sale/
LOCATION:CA
CATEGORIES:Sales
END:VEVENT
BEGIN:VEVENT
DTSTART;TZID=America/Los_Angeles:20240413T090000
DTEND;TZID=America/Los_Angeles:20240414T160000
DTSTAMP:20260420T034111
CREATED:20240222T004104Z
LAST-MODIFIED:20240222T004206Z
UID:7246-1712998800-1713110400@laxammoretail.com
SUMMARY:Gun Show Victorville\, CA
DESCRIPTION:April 13-14: Sat 9am-5pm / Sun 9am-3pm \nSan Bernardino Fairgrounds\n14800 Seventh St.\, Victorville\, CA 92395  \nFor more information about individual gun shows please call (424) 750-9652 or email us at service@laxammunition.com.  We bring a variety of calibers and ammunition types at every gun show.
URL:https://laxammoretail.com/event/gun-show-victorville-ca/
LOCATION:San Bernardino Fairgrounds\, 14800 SEVENTH ST.\, VICTORVILLE\, 92395\, United States
CATEGORIES:Gun Shows
ATTACH;FMTTYPE=image/jpeg:https://laxammoretail.com/wp-content/uploads/2018/05/0ab7b556-8117-49fc-bd82-785b9723ae93.jpg
END:VEVENT
BEGIN:VEVENT
DTSTART;TZID=America/Los_Angeles:20240406T090000
DTEND;TZID=America/Los_Angeles:20240407T160000
DTSTAMP:20260420T034111
CREATED:20230628T142744Z
LAST-MODIFIED:20240221T221524Z
UID:6792-1712394000-1712505600@laxammoretail.com
SUMMARY:Gun Show San Bernardino\, CA
DESCRIPTION:April 6-7: Sat 9am-5pm / Sun 9am-4pm \nNational Orange Show Grounds\n689 S E St San Bernardino\, CA 92408 \nFor more information about individual gun shows please call (424) 750-9652 or email us at service@laxammunition.com.  We bring a variety of calibers and ammunition types at every gun show.
URL:https://laxammoretail.com/event/gun-show-san-bernardino-ca/
LOCATION:National Orange Show Grounds\, 689 S E St\, San Bernardino\, CA\, 92408\, United States
CATEGORIES:Gun Shows
ATTACH;FMTTYPE=image/jpeg:https://laxammoretail.com/wp-content/uploads/2018/05/0ab7b556-8117-49fc-bd82-785b9723ae93.jpg
ORGANIZER;CN="Crossroads of the West":MAILTO:gunshows@crossroadsgunshows.com
END:VEVENT
END:VCALENDAR