BEGIN:VCALENDAR
VERSION:2.0
PRODID:-//LAX Ammo - ECPv6.15.20//NONSGML v1.0//EN
CALSCALE:GREGORIAN
METHOD:PUBLISH
X-WR-CALNAME:LAX Ammo
X-ORIGINAL-URL:https://laxammoretail.com
X-WR-CALDESC:Events for LAX Ammo
REFRESH-INTERVAL;VALUE=DURATION:PT1H
X-Robots-Tag:noindex
X-PUBLISHED-TTL:PT1H
BEGIN:VTIMEZONE
TZID:UTC
BEGIN:STANDARD
TZOFFSETFROM:+0000
TZOFFSETTO:+0000
TZNAME:UTC
DTSTART:20230101T000000
END:STANDARD
END:VTIMEZONE
BEGIN:VTIMEZONE
TZID:America/Los_Angeles
BEGIN:DAYLIGHT
TZOFFSETFROM:-0800
TZOFFSETTO:-0700
TZNAME:PDT
DTSTART:20230312T100000
END:DAYLIGHT
BEGIN:STANDARD
TZOFFSETFROM:-0700
TZOFFSETTO:-0800
TZNAME:PST
DTSTART:20231105T090000
END:STANDARD
BEGIN:DAYLIGHT
TZOFFSETFROM:-0800
TZOFFSETTO:-0700
TZNAME:PDT
DTSTART:20240310T100000
END:DAYLIGHT
BEGIN:STANDARD
TZOFFSETFROM:-0700
TZOFFSETTO:-0800
TZNAME:PST
DTSTART:20241103T090000
END:STANDARD
BEGIN:DAYLIGHT
TZOFFSETFROM:-0800
TZOFFSETTO:-0700
TZNAME:PDT
DTSTART:20250309T100000
END:DAYLIGHT
BEGIN:STANDARD
TZOFFSETFROM:-0700
TZOFFSETTO:-0800
TZNAME:PST
DTSTART:20251102T090000
END:STANDARD
END:VTIMEZONE
BEGIN:VEVENT
DTSTART;TZID=UTC:20240629T070000
DTEND;TZID=UTC:20240629T110000
DTSTAMP:20260420T034459
CREATED:20240613T193751Z
LAST-MODIFIED:20240613T193751Z
UID:7400-1719644400-1719658800@laxammoretail.com
SUMMARY:The Summer of GLOCK GSSF Match
DESCRIPTION:June 29th at LAX Firing Range.
URL:https://laxammoretail.com/event/the-summer-of-glock-gssf-match/
LOCATION:LAX Firing Range\, 234 S\, 234 Hindry Ave.\, Inglewood\, CA\, 90301\, United States
CATEGORIES:Gun Range Classes
ATTACH;FMTTYPE=image/png:https://laxammoretail.com/wp-content/uploads/2024/06/6-7-24-LAX-GSSF-MATCH-FLYER-8.5x11-RGB-Color.png
END:VEVENT
BEGIN:VEVENT
DTSTART;TZID=UTC:20240621T080000
DTEND;TZID=UTC:20240630T170000
DTSTAMP:20260420T034459
CREATED:20240619T214832Z
LAST-MODIFIED:20240619T214832Z
UID:7415-1718956800-1719766800@laxammoretail.com
SUMMARY:LAX'S CALIFORNIA PRE-TAX SALE
DESCRIPTION:Hurry in and SAVE before the 11% ammo tax takes effect! \nSALES IN-STORE ONLY \nLAX LA JUNE 21ST – 26TH\nLAX SAN DIEGO & SAN MARCOS JUNE 21ST-30TH
URL:https://laxammoretail.com/event/laxs-california-pre-tax-sale/
CATEGORIES:Sales
ATTACH;FMTTYPE=image/jpeg:https://laxammoretail.com/wp-content/uploads/2024/06/6.24.24-LAX-RETAIL-Pre-Tax-Store-Sale-email-HERO.jpg
END:VEVENT
BEGIN:VEVENT
DTSTART;TZID=America/Los_Angeles:20240614T090000
DTEND;TZID=America/Los_Angeles:20240616T170000
DTSTAMP:20260420T034459
CREATED:20240613T195119Z
LAST-MODIFIED:20240613T195119Z
UID:7408-1718355600-1718557200@laxammoretail.com
SUMMARY:Father's Day Sale
DESCRIPTION:June 14-16 at all LAX locations.\n\nSee what’s on sale » \nLA Location:\nFriday: 9 AM–8 PM\nSaturday: 10:30 AM–8 PM\nSunday: 10:30 AM–5 PM\nMonday: 9AM-5PM\n\n  \n\nOC Location:\nFriday: 11AM TO 6PM\nSaturday: 10AM TO 5PM\nSunday: 11AM TO 4PM\nMonday: 11AM TO 6PM\n\n  \n\nSan Marcos:\nFriday: 10AM TO 6PM\nSaturday: 10AM TO 5PM\nSunday: 10AM TO 5PM\nMonday: 10AM-6PM\n\n  \n\nSan Diego:\nFriday: 10AM TO 6PM\nSaturday: 10AM TO 5PM\nSunday: 10AM TO 5PM\nMonday: 10AM-6PM
URL:https://laxammoretail.com/event/fathers-day-sale/
CATEGORIES:Sales
END:VEVENT
BEGIN:VEVENT
DTSTART;TZID=America/Los_Angeles:20240524T090000
DTEND;TZID=America/Los_Angeles:20240527T170000
DTSTAMP:20260420T034459
CREATED:20240524T122829Z
LAST-MODIFIED:20240524T123827Z
UID:7376-1716541200-1716829200@laxammoretail.com
SUMMARY:Memorial Day Sale
DESCRIPTION:May 24-27 at all LAX locations.\n\nSee what’s on sale » \nLA Location:\nFriday: 9 AM–8 PM\nSaturday: 10:30 AM–8 PM\nSunday: 10:30 AM–5 PM\nMonday: 9AM-5PM\n\n  \n\nOC Location:\nFriday: 11AM TO 6PM\nSaturday: 10AM TO 5PM\nSunday: 11AM TO 4PM\nMonday: 11AM TO 6PM\n\n  \n\nSan Marcos:\nFriday: 10AM TO 6PM\nSaturday: 10AM TO 5PM\nSunday: 10AM TO 5PM\nMonday: 10AM-6PM\n\n  \n\nSan Diego:\nFriday: 10AM TO 6PM\nSaturday: 10AM TO 5PM\nSunday: 10AM TO 5PM\nMonday: 10AM-6PM
URL:https://laxammoretail.com/event/memorial-day-sale/
CATEGORIES:Sales
END:VEVENT
BEGIN:VEVENT
DTSTART;TZID=America/Los_Angeles:20240413T090000
DTEND;TZID=America/Los_Angeles:20240414T160000
DTSTAMP:20260420T034459
CREATED:20240222T004104Z
LAST-MODIFIED:20240222T004206Z
UID:7246-1712998800-1713110400@laxammoretail.com
SUMMARY:Gun Show Victorville\, CA
DESCRIPTION:April 13-14: Sat 9am-5pm / Sun 9am-3pm \nSan Bernardino Fairgrounds\n14800 Seventh St.\, Victorville\, CA 92395  \nFor more information about individual gun shows please call (424) 750-9652 or email us at service@laxammunition.com.  We bring a variety of calibers and ammunition types at every gun show.
URL:https://laxammoretail.com/event/gun-show-victorville-ca/
LOCATION:San Bernardino Fairgrounds\, 14800 SEVENTH ST.\, VICTORVILLE\, 92395\, United States
CATEGORIES:Gun Shows
ATTACH;FMTTYPE=image/jpeg:https://laxammoretail.com/wp-content/uploads/2018/05/0ab7b556-8117-49fc-bd82-785b9723ae93.jpg
END:VEVENT
BEGIN:VEVENT
DTSTART;TZID=America/Los_Angeles:20240406T090000
DTEND;TZID=America/Los_Angeles:20240407T160000
DTSTAMP:20260420T034459
CREATED:20230628T142744Z
LAST-MODIFIED:20240221T221524Z
UID:6792-1712394000-1712505600@laxammoretail.com
SUMMARY:Gun Show San Bernardino\, CA
DESCRIPTION:April 6-7: Sat 9am-5pm / Sun 9am-4pm \nNational Orange Show Grounds\n689 S E St San Bernardino\, CA 92408 \nFor more information about individual gun shows please call (424) 750-9652 or email us at service@laxammunition.com.  We bring a variety of calibers and ammunition types at every gun show.
URL:https://laxammoretail.com/event/gun-show-san-bernardino-ca/
LOCATION:National Orange Show Grounds\, 689 S E St\, San Bernardino\, CA\, 92408\, United States
CATEGORIES:Gun Shows
ATTACH;FMTTYPE=image/jpeg:https://laxammoretail.com/wp-content/uploads/2018/05/0ab7b556-8117-49fc-bd82-785b9723ae93.jpg
ORGANIZER;CN="Crossroads of the West":MAILTO:gunshows@crossroadsgunshows.com
END:VEVENT
BEGIN:VEVENT
DTSTART;TZID=America/Los_Angeles:20240330T090000
DTEND;TZID=America/Los_Angeles:20240331T160000
DTSTAMP:20260420T034459
CREATED:20240109T195356Z
LAST-MODIFIED:20240325T211454Z
UID:7183-1711789200-1711900800@laxammoretail.com
SUMMARY:Gun Show Costa Mesa\, CA
DESCRIPTION:March 30-31: Sat 9am-5pm / Sun 9am-4pm \nOC Fair & Event Center\n88 Fair Dr\, Costa Mesa\, CA 92626 \nFor more information about individual gun shows please call (424) 750-9652 or email us at service@laxammunition.com.  We bring a variety of calibers and ammunition types at every gun show.
URL:https://laxammoretail.com/event/gun-show-coasta-mesa-ca-2/
LOCATION:OC Fair & Event Center\, 88 Fair Dr\, Costa Mesa\, CA\, 92626\, United States
CATEGORIES:Gun Shows
ATTACH;FMTTYPE=image/jpeg:https://laxammoretail.com/wp-content/uploads/2018/05/0ab7b556-8117-49fc-bd82-785b9723ae93.jpg
ORGANIZER;CN="Crossroads of the West":MAILTO:gunshows@crossroadsgunshows.com
END:VEVENT
BEGIN:VEVENT
DTSTART;TZID=UTC:20240322T100000
DTEND;TZID=UTC:20240324T170000
DTSTAMP:20260420T034459
CREATED:20240320T164259Z
LAST-MODIFIED:20240320T165449Z
UID:7290-1711101600-1711299600@laxammoretail.com
SUMMARY:LAX Ammo Parking Lot Sale - San Diego/San Marcos
DESCRIPTION:
URL:https://laxammoretail.com/event/lax-ammo-parking-lot-sale-san-diego-san-marcos/
CATEGORIES:Gun Shows
END:VEVENT
BEGIN:VEVENT
DTSTART;TZID=UTC:20240322T090000
DTEND;TZID=UTC:20240324T170000
DTSTAMP:20260420T034459
CREATED:20240320T162329Z
LAST-MODIFIED:20240320T165527Z
UID:7287-1711098000-1711299600@laxammoretail.com
SUMMARY:LAX Ammo Parking Lot Sale - LA
DESCRIPTION:
URL:https://laxammoretail.com/event/lax-ammo-parking-lot-sale-la/
CATEGORIES:Gun Shows
ORGANIZER;CN="LAX Ammo":MAILTO:service@laxammunition.com
END:VEVENT
BEGIN:VEVENT
DTSTART;TZID=UTC:20240309T123000
DTEND;TZID=UTC:20240309T163000
DTSTAMP:20260420T034459
CREATED:20240306T183518Z
LAST-MODIFIED:20240306T183518Z
UID:7279-1709987400-1710001800@laxammoretail.com
SUMMARY:Tom Golden Utah CCW Class
DESCRIPTION:Got plans on Saturday? Come on out to the LAX firing range and learn from Tom Golden on his Utah CCW class. Admission is $150 and the class starts at 12:30 PM 3/9/24. \nFor more information call: 310-779-6845
URL:https://laxammoretail.com/event/tom-golden-utah-ccw-class/
LOCATION:LAX Firing Range\, 234 S\, 234 Hindry Ave.\, Inglewood\, CA\, 90301\, United States
CATEGORIES:Gun Range Classes
ORGANIZER;CN="LAX Ammo":MAILTO:service@laxammunition.com
END:VEVENT
BEGIN:VEVENT
DTSTART;TZID=America/Los_Angeles:20240309T090000
DTEND;TZID=America/Los_Angeles:20240310T160000
DTSTAMP:20260420T034459
CREATED:20240109T194544Z
LAST-MODIFIED:20240306T164913Z
UID:7172-1709974800-1710086400@laxammoretail.com
SUMMARY:Gun Show Ontario\, CA
DESCRIPTION:March 9-10: Sat 9am-5pm / Sun 9am-4pm \nOntario Convention Center\n2000 E Convention Center Way\, Ontario\, CA 91764 \nFor more information about individual gun shows please call (424) 750-9652 or email us at service@laxammunition.com.  We bring a variety of calibers and ammunition types at every gun show.
URL:https://laxammoretail.com/event/gun-show-ontario-ca-2/
LOCATION:Ontario Convention Center\, 2000 E Convention Center Way\, Ontario\, CA\, 91764\, United States
CATEGORIES:Gun Shows
ATTACH;FMTTYPE=image/jpeg:https://laxammoretail.com/wp-content/uploads/2018/05/0ab7b556-8117-49fc-bd82-785b9723ae93.jpg
ORGANIZER;CN="Crossroads of the West":MAILTO:gunshows@crossroadsgunshows.com
END:VEVENT
BEGIN:VEVENT
DTSTART;TZID=America/Los_Angeles:20240203T090000
DTEND;TZID=America/Los_Angeles:20240204T150000
DTSTAMP:20260420T034459
CREATED:20230628T143046Z
LAST-MODIFIED:20240129T210431Z
UID:6797-1706950800-1707058800@laxammoretail.com
SUMMARY:Gun Show Vallejo\, CA
DESCRIPTION:February 3-4: Sat 9am-5pm / Sun 9am-3pm \nSolano County Fairgrounds\n900 Fairgrounds Dr. Vallejo\, CA 94589  \nFor more information about individual gun shows please call (424) 750-9652 or email us at service@laxammunition.com.  We bring a variety of calibers and ammunition types at every gun show.
URL:https://laxammoretail.com/event/gun-show-vallejo-ca-4/
LOCATION:Solano County Fairgrounds\, 900 Fairgrounds Dr.\, Vallejo\, CA\, 94589\, United States
CATEGORIES:Gun Shows
ATTACH;FMTTYPE=image/jpeg:https://laxammoretail.com/wp-content/uploads/2018/05/0ab7b556-8117-49fc-bd82-785b9723ae93.jpg
ORGANIZER;CN="Crossroads of the West":MAILTO:gunshows@crossroadsgunshows.com
END:VEVENT
BEGIN:VEVENT
DTSTART;TZID=America/Los_Angeles:20240127T090000
DTEND;TZID=America/Los_Angeles:20240129T160000
DTSTAMP:20260420T034459
CREATED:20230628T141347Z
LAST-MODIFIED:20240122T191806Z
UID:6773-1706346000-1706544000@laxammoretail.com
SUMMARY:Gun Show Ontario\, CA
DESCRIPTION:January 27-28: Sat 9am-5pm / Sun 9am-4pm \nOntario Convention Center\n2000 E Convention Center Way\, Ontario\, CA 91764 \nFor more information about individual gun shows please call (424) 750-9652 or email us at service@laxammunition.com.  We bring a variety of calibers and ammunition types at every gun show.
URL:https://laxammoretail.com/event/gun-show-ontario-ca/
LOCATION:Ontario Convention Center\, 2000 E Convention Center Way\, Ontario\, CA\, 91764\, United States
CATEGORIES:Gun Shows
ATTACH;FMTTYPE=image/jpeg:https://laxammoretail.com/wp-content/uploads/2018/05/0ab7b556-8117-49fc-bd82-785b9723ae93.jpg
ORGANIZER;CN="Crossroads of the West":MAILTO:gunshows@crossroadsgunshows.com
END:VEVENT
BEGIN:VEVENT
DTSTART;TZID=America/Los_Angeles:20240118T090000
DTEND;TZID=America/Los_Angeles:20240121T150000
DTSTAMP:20260420T034459
CREATED:20240109T195313Z
LAST-MODIFIED:20240116T144607Z
UID:7180-1705568400-1705849200@laxammoretail.com
SUMMARY:Gun Show Costa Mesa\, CA
DESCRIPTION:January 18-21: Sat 9am-5pm / Sun 9am-3pm \nOrange County Fairgrounds\n88 Fair Dr\, Costa Mesa\, CA 92626 \nFor more information about individual gun shows please call (424) 750-9652 or email us at service@laxammunition.com.  We bring a variety of calibers and ammunition types at every gun show.
URL:https://laxammoretail.com/event/gun-show-coasta-mesa-ca/
LOCATION:Orange County Fairgrounds\, 88 Fair Dr\, Costa Mesa\, 92626\, United States
CATEGORIES:Gun Shows
ATTACH;FMTTYPE=image/jpeg:https://laxammoretail.com/wp-content/uploads/2018/05/0ab7b556-8117-49fc-bd82-785b9723ae93.jpg
ORGANIZER;CN="Crossroads of the West":MAILTO:gunshows@crossroadsgunshows.com
END:VEVENT
END:VCALENDAR